BEGIN:VCALENDAR
X-WR-TIMEZONE:Europe/Berlin
X-WR-CALNAME:rbb-Kalender
VERSION:2.0
METHOD:PUBLISH
CALSCALE:GREGORIAN
PRODID:rbb-CMS DAY
BEGIN:VEVENT
LOCATION:31. Spieltag
CLASS:PUBLIC
URL:http://www.rbb-online.de/content/rbb/rbb/fernsehen/programm/20_04_2014/11950540667.html
DTEND:20140420T222000
DTSTART:20140420T220000
UID:/content/rbb/rbb/fernsehen/programm/20_04_2014/11950540667
DTSTAMP:20140404T182604
DESCRIPTION:Spiele:\n* 1. FC Nürnberg - Bayer Leverkusen\n* VfB Stuttgart - Schalke 04
SUMMARY:Sportschau Bundesliga am Sonntag 20.04.2014 22:00
END:VEVENT
END:VCALENDAR
