BEGIN:VCALENDAR
X-WR-TIMEZONE:Europe/Berlin
X-WR-CALNAME:rbb-Kalender
VERSION:2.0
METHOD:PUBLISH
CALSCALE:GREGORIAN
PRODID:rbb-CMS DAY
BEGIN:VEVENT
LOCATION:Spielfilm Schweden / Deutschland 2012 (Försvunnen)
CLASS:PUBLIC
URL:http://www.rbb-online.de/content/rbb/rbb/fernsehen/programm/20_04_2014/11950540695.html
DTEND:20140421T003000
DTSTART:20140420T230000
UID:/content/rbb/rbb/fernsehen/programm/20_04_2014/11950540695
DTSTAMP:20140404T182508
DESCRIPTION:Die zehnjährige Ella kehrt nicht von der Schule heim. Der Verdacht fällt zunächst auf ihren Vater, der mit seiner Frau einen Krieg um das Sorgerecht führt. Seinem kriminalistischen Instinkt folgend, konzentriert Wallander sich bald auf Verdächtige mit pädophilen Motiven. Ein rätselhafter Mord, an dem er sich vor zehn Jahren die Zähne ausbiss, lässt ihn den Fall in einem neuen Licht erblicken. In diesem mitreißenden Krimi nach einer Geschichte von Henning Mankell muss Wallander sich einen Irrtum eingestehen.
SUMMARY:Mankells Wallander - Vermisst 20.04.2014 23:00
END:VEVENT
END:VCALENDAR
