BEGIN:VCALENDAR
X-WR-TIMEZONE:Europe/Berlin
X-WR-CALNAME:rbb-Kalender
VERSION:2.0
METHOD:PUBLISH
CALSCALE:GREGORIAN
PRODID:rbb-CMS DAY
BEGIN:VEVENT
LOCATION:20.04.1989
CLASS:PUBLIC
URL:http://www.rbb-online.de/content/rbb/rbb/fernsehen/programm/21_04_2014/11956010161.html
DTEND:20140421T032500
DTSTART:20140421T030000
UID:/content/rbb/rbb/fernsehen/programm/21_04_2014/11956010161
DTSTAMP:20140404T182507
DESCRIPTION:Die Abendschau berichtet seit 1958 über das Wichtigste aus Politik, Kultur, Wirtschaft und Sport, die Szenetrends und die Kiezgeschichten.
SUMMARY:Berliner Abendschau 21.04.2014 03:00
END:VEVENT
END:VCALENDAR
