BEGIN:VCALENDAR
X-WR-TIMEZONE:Europe/Berlin
X-WR-CALNAME:rbb-Kalender
VERSION:2.0
METHOD:PUBLISH
CALSCALE:GREGORIAN
PRODID:rbb-CMS DAY
BEGIN:VEVENT
CLASS:PUBLIC
URL:http://www.rbb-online.de/content/rbb/rbb/fernsehen/programm/21_04_2014/11956010359.html
DTEND:20140421T124000
DTSTART:20140421T115500
UID:/content/rbb/rbb/fernsehen/programm/21_04_2014/11956010359
DTSTAMP:20140404T184412
DESCRIPTION:Von der Uckermark bis in den Spreewald, von den Ufern der Oder bis ins Havelland - in ganz Brandenburg finden sich Bauernhöfe verschiedenster Art. Neben landwirtschaftlichen Großbetrieben existieren unzählige kleinere Höfe mit Charme, außergewöhnlichen Angeboten und besonderen Attraktionen. Viele von ihnen öffnen nicht nur zur jährlichen "Landpartie" ihre Türen für Besucher.
SUMMARY:Die schönsten Brandenburger Bauernhöfe 21.04.2014 11:55
END:VEVENT
END:VCALENDAR
