BEGIN:VCALENDAR
X-WR-TIMEZONE:Europe/Berlin
X-WR-CALNAME:rbb-Kalender
VERSION:2.0
METHOD:PUBLISH
CALSCALE:GREGORIAN
PRODID:rbb-CMS DAY
BEGIN:VEVENT
LOCATION:Film von Ulrike Licht
CLASS:PUBLIC
URL:http://www.rbb-online.de/content/rbb/rbb/fernsehen/programm/21_04_2014/11956010462.html
DTEND:20140421T184000
DTSTART:20140421T181000
UID:/content/rbb/rbb/fernsehen/programm/21_04_2014/11956010462
DTSTAMP:20140404T184513
DESCRIPTION:Kein Kuchen ist so beliebt wie der gute alte Käsekuchen. Doch es ist selbst für Konditoren und geübte Hobbybäcker nicht so einfach, eine Käsetorte perfekt zu backen. Die rbb Reporter machen sich auf die Suche nach dem besten Käsekuchen und werden beim Käsekuchen-Wettbewerb der Berliner und Brandenburger Konditoren-Innung fündig. Hier kämpfen Profis und Hobby-Konditoren um den Titel.
SUMMARY:Die rbb Reporter - Käsekuchen - Ein Stück vom Glück 21.04.2014 18:10
END:VEVENT
END:VCALENDAR
