BEGIN:VCALENDAR
X-WR-TIMEZONE:Europe/Berlin
X-WR-CALNAME:rbb-Kalender
VERSION:2.0
METHOD:PUBLISH
CALSCALE:GREGORIAN
PRODID:rbb-CMS DAY
BEGIN:VEVENT
LOCATION:Spielfilm Deutschland 1991
CLASS:PUBLIC
URL:http://www.rbb-online.de/content/rbb/rbb/fernsehen/programm/21_04_2014/11956010578.html
DTEND:20140421T234000
DTSTART:20140421T221500
UID:/content/rbb/rbb/fernsehen/programm/21_04_2014/11956010578
DTSTAMP:20140404T184347
DESCRIPTION:Heinrich Lohse, langjähriger Einkaufschef einer Röhrenfabrik, geht unfreiwillig in Frühpension und will sich nun zu Hause nützlich machen. Nach 37 Berufsjahren kann sein Talent zum Strukturieren, Organisieren und Sparen ja nicht einfach brachliegen. Doch der Versuch des pedantischen Biedermanns, die Hauswirtschaft unter professionellen Gesichtspunkten zu restrukturieren, mündet alsbald im Chaos.
SUMMARY:Loriots Pappa ante Portas 21.04.2014 22:15
END:VEVENT
END:VCALENDAR
