BEGIN:VCALENDAR
X-WR-TIMEZONE:Europe/Berlin
X-WR-CALNAME:rbb-Kalender
VERSION:2.0
METHOD:PUBLISH
CALSCALE:GREGORIAN
PRODID:rbb-CMS DAY
BEGIN:VEVENT
LOCATION:Kriminalfilm 1985
CLASS:PUBLIC
URL:http://www.rbb-online.de/content/rbb/rbb/fernsehen/programm/21_04_2014/11956010587.html
DTEND:20140422T010000
DTSTART:20140421T234000
UID:/content/rbb/rbb/fernsehen/programm/21_04_2014/11956010587
DTSTAMP:20140404T184515
DESCRIPTION:Der treue Konzertgeiger Martin Veltin lässt sich von einer Sommernacht dazu verleiten, mit der Popsängerin Silke auszugehen, statt pünktlich nach Hause zu seiner Gattin zu gehen. Beim Spaziergang in die Höhen der Sächsischen Schweiz kommt es zu Handgreiflichkeiten, dabei stürzt die junge Frau in die Schlucht. Aus Angst greift Martin zu einer Lüge, doch plötzlich nimmt alles eine unerwartete Wende!
SUMMARY:Polizeiruf 110: Ein Schritt zu weit 21.04.2014 23:40
END:VEVENT
END:VCALENDAR
