BEGIN:VCALENDAR
X-WR-TIMEZONE:Europe/Berlin
X-WR-CALNAME:rbb-Kalender
VERSION:2.0
METHOD:PUBLISH
CALSCALE:GREGORIAN
PRODID:rbb-CMS DAY
BEGIN:VEVENT
LOCATION:Unterwegs mit Sternekoch Kolja Kleeberg
CLASS:PUBLIC
URL:http://www.rbb-online.de/content/rbb/rbb/fernsehen/programm/22_04_2014/11962635481.html
DTEND:20140422T094500
DTSTART:20140422T090000
UID:/content/rbb/rbb/fernsehen/programm/22_04_2014/11962635481
DTSTAMP:20140404T184822
DESCRIPTION:Max Moor ist mit Sternekoch Kolja Kleeberg in Brandenburg unterwegs, dieses Mal auf der Suche nach regional produzierten Zutaten für Koljas Osterrezept:Geschmorte Zickleinschulter mit eingemachten Karotten, Chicorée und Kapernpesto.
SUMMARY:Köche und Moor 22.04.2014 09:00
END:VEVENT
END:VCALENDAR
