BEGIN:VCALENDAR
X-WR-TIMEZONE:Europe/Berlin
X-WR-CALNAME:rbb-Kalender
VERSION:2.0
METHOD:PUBLISH
CALSCALE:GREGORIAN
PRODID:rbb-CMS DAY
BEGIN:VEVENT
LOCATION:Fernsehserie Deutschland 2014
CLASS:PUBLIC
URL:http://www.rbb-online.de/content/rbb/rbb/fernsehen/programm/22_04_2014/11962635633.html
DTEND:20140422T112500
DTSTART:20140422T103500
UID:/content/rbb/rbb/fernsehen/programm/22_04_2014/11962635633
DTSTAMP:20140404T185110
DESCRIPTION:Lisa ist im Stress. Malte fordert ihre Mitarbeit bei der Schmuggelgeschichte und Ole will ihr letztes Geld für Lottes College abziehen. Nachdem Ole sich über Lisas Willen hinweggesetzt hat, stellt Lisa Tine zur Rede. Und dadurch erfährt Ole zufällig, dass Lisa ihn wieder einmal belogen hat. Rieke hat spontan den neuen Job in Sydney zugesagt, frei von jedem Zweifel. Nur ahnt Mick noch nichts von ihren Plänen. Natürlich möchte Rieke, dass Mick mitkommt. Torben stellt Nicos zur Rede und erfährt dabei, dass Elke sich von ihm getrennt hat. Nicos verpflichtet Torben zur Verschwiegenheit, doch der fürchtet großen Ärger mit Carla.
SUMMARY:Rote Rosen (1707) 22.04.2014 10:35
END:VEVENT
END:VCALENDAR
