BEGIN:VCALENDAR
X-WR-TIMEZONE:Europe/Berlin
X-WR-CALNAME:rbb-Kalender
VERSION:2.0
METHOD:PUBLISH
CALSCALE:GREGORIAN
PRODID:rbb-CMS DAY
BEGIN:VEVENT
LOCATION:Dresden
CLASS:PUBLIC
URL:http://www.rbb-online.de/content/rbb/rbb/fernsehen/programm/22_04_2014/11962635940.html
DTEND:20140422T160000
DTSTART:20140422T151500
UID:/content/rbb/rbb/fernsehen/programm/22_04_2014/11962635940
DTSTAMP:20140404T185048
DESCRIPTION:Die sächsische Hauptstadt hat für den Kulturbeflissenen viel zu bieten. Ob Frauenkirche, Zwinger, Semperoper oder Goldener Reiter - oder die neue Attraktion, die Gläserne Manufaktur. Sie alle sind bekannte Wahrzeichen dieser Stadt und immer wieder im Blickpunkt der Kameras gewesen.
SUMMARY:Bilderbuch Deutschland 22.04.2014 15:15
END:VEVENT
END:VCALENDAR
