BEGIN:VCALENDAR
X-WR-TIMEZONE:Europe/Berlin
X-WR-CALNAME:rbb-Kalender
VERSION:2.0
METHOD:PUBLISH
CALSCALE:GREGORIAN
PRODID:rbb-CMS DAY
BEGIN:VEVENT
LOCATION:Das Havelland
CLASS:PUBLIC
URL:http://www.rbb-online.de/content/rbb/rbb/fernsehen/programm/22_04_2014/11962635991.html
DTEND:20140422T165000
DTSTART:20140422T160500
UID:/content/rbb/rbb/fernsehen/programm/22_04_2014/11962635991
DTSTAMP:20140404T184950
DESCRIPTION:Wie lebt es sich in Berlin und Brandenburg? Der Berlin-Brandenburg Check testet auf unterhaltsame und informative Weise die Lebensqualität in Berliner Bezirken und Brandenburger Landkreisen. Heute wird das Havelland getestet: Wo kann man sein Geld verdienen? Wie steht es um die gesundheitliche Versorgung? Was hat das Havelland außer unberührter Natur noch zu bieten?
SUMMARY:Der Berlin-Brandenburg Check 22.04.2014 16:05
END:VEVENT
END:VCALENDAR
