BEGIN:VCALENDAR
X-WR-TIMEZONE:Europe/Berlin
X-WR-CALNAME:rbb-Kalender
VERSION:2.0
METHOD:PUBLISH
CALSCALE:GREGORIAN
PRODID:rbb-CMS DAY
BEGIN:VEVENT
LOCATION:22.04.1989
CLASS:PUBLIC
URL:http://www.rbb-online.de/content/rbb/rbb/fernsehen/programm/23_04_2014/11983267368.html
DTEND:20140423T015500
DTSTART:20140423T013000
UID:/content/rbb/rbb/fernsehen/programm/23_04_2014/11983267368
DTSTAMP:20140404T184854
DESCRIPTION:Die Abendschau berichtet seit 1958 über das Wichtigste aus Politik, Kultur, Wirtschaft und Sport, die Szenetrends und die Kiezgeschichten.
SUMMARY:Berliner Abendschau 23.04.2014 01:30
END:VEVENT
END:VCALENDAR
