BEGIN:VCALENDAR
X-WR-TIMEZONE:Europe/Berlin
X-WR-CALNAME:rbb-Kalender
VERSION:2.0
METHOD:PUBLISH
CALSCALE:GREGORIAN
PRODID:rbb-CMS DAY
BEGIN:VEVENT
LOCATION:Wie lebten die Kelten?
CLASS:PUBLIC
URL:http://www.rbb-online.de/content/rbb/rbb/fernsehen/programm/23_04_2014/11983267545.html
DTEND:20140423T074500
DTSTART:20140423T073000
UID:/content/rbb/rbb/fernsehen/programm/23_04_2014/11983267545
DTSTAMP:20140404T195006
DESCRIPTION:
SUMMARY:Das Kelten-Experiment 23.04.2014 07:30
END:VEVENT
END:VCALENDAR
