BEGIN:VCALENDAR
X-WR-TIMEZONE:Europe/Berlin
X-WR-CALNAME:rbb-Kalender
VERSION:2.0
METHOD:PUBLISH
CALSCALE:GREGORIAN
PRODID:rbb-CMS DAY
BEGIN:VEVENT
CLASS:PUBLIC
URL:http://www.rbb-online.de/content/rbb/rbb/fernsehen/programm/23_04_2014/11983267552.html
DTEND:20140423T080000
DTSTART:20140423T074500
UID:/content/rbb/rbb/fernsehen/programm/23_04_2014/11983267552
DTSTAMP:20140404T194943
DESCRIPTION:
SUMMARY:Bäuerliches Leben im Mittelalter 23.04.2014 07:45
END:VEVENT
END:VCALENDAR
