BEGIN:VCALENDAR
X-WR-TIMEZONE:Europe/Berlin
X-WR-CALNAME:rbb-Kalender
VERSION:2.0
METHOD:PUBLISH
CALSCALE:GREGORIAN
PRODID:rbb-CMS DAY
BEGIN:VEVENT
LOCATION:Fernsehserie Deutschland 2014
CLASS:PUBLIC
URL:http://www.rbb-online.de/content/rbb/rbb/fernsehen/programm/23_04_2014/11983267641.html
DTEND:20140423T112500
DTSTART:20140423T103500
UID:/content/rbb/rbb/fernsehen/programm/23_04_2014/11983267641
DTSTAMP:20140404T194808
DESCRIPTION:Rainer ist sehr enttäuscht, dass Merle nicht mit ihm in Afrika leben will. Auch ein "Pendel-Modell" zwischen Lüneburg und Afrika, das Merle kurz erwägt, ist keine wirkliche Lösung. Merle muss sich entscheiden.\nOle ist wütend, weil Lisa ihm das Doping-Geständnis ihres ehemaligen Trainers verheimlicht hat. Lisa fürchtet erneut um ihre Beziehung, umso mehr, als Lotte überstürzt aufs College nach Dänemark muss und Ole und Tine den Eine-Welt-Laden übergibt. Lisa fürchtet, die beiden werden sich dort zu nahekommen. \nMick kehrt beschwingt aus Dänemark zurück und eröffnet Rieke, dass er dort das Herrenhaus kaufen und ein Promi-Golf-Resort entwickeln will. Rieke ist entsetzt. Sie gesteht Mick, dass sie in Australien einen Job zugesagt und für Mick bereits ein Vorstellungsgespräch ausgemacht hat.\nNicos macht Inge den Hof, aber auch Hannes ist sehr begeistert von ihr. Er fertigt für sie eine Handtasche, muss aber mit ansehen, wie Nicos Inge eine teure Designertasche verehrt …
SUMMARY:Rote Rosen (1708) 23.04.2014 10:35
END:VEVENT
END:VCALENDAR
