BEGIN:VCALENDAR
X-WR-TIMEZONE:Europe/Berlin
X-WR-CALNAME:rbb-Kalender
VERSION:2.0
METHOD:PUBLISH
CALSCALE:GREGORIAN
PRODID:rbb-CMS DAY
BEGIN:VEVENT
LOCATION:Balian Buschbaum - Früher war ich eine Frau
CLASS:PUBLIC
URL:http://www.rbb-online.de/content/rbb/rbb/fernsehen/programm/23_04_2014/11983267797.html
DTEND:20140423T151500
DTSTART:20140423T141500
UID:/content/rbb/rbb/fernsehen/programm/23_04_2014/11983267797
DTSTAMP:20140404T194843
DESCRIPTION:Balian Buschbaum hieß früher Ivonne. Er wurde als Mädchen geboren, war deutsche Meisterin im Stabhochsprung, Olympiateilnehmerin und ist heute ein Mann. Bis zu seiner Geschlechterangleichung fühlte er sich fremd im eigenen Körper. Rein äußerlich eine Frau, von innen einen Mann. Bis er so leben kann, wie er es sich gewünscht hat, war es ein langer Weg, geprägt von schwierigen Entscheidungen. Heute erzählt er ganz offen, wie es ist, ein Mann zu sein.\n\nModeration: Andrea Grießmann
SUMMARY:Planet Wissen 23.04.2014 14:15
END:VEVENT
END:VCALENDAR
