BEGIN:VCALENDAR
X-WR-TIMEZONE:Europe/Berlin
X-WR-CALNAME:rbb-Kalender
VERSION:2.0
METHOD:PUBLISH
CALSCALE:GREGORIAN
PRODID:rbb-CMS DAY
BEGIN:VEVENT
LOCATION:Jenseits von Timbuktu
CLASS:PUBLIC
URL:http://www.rbb-online.de/content/rbb/rbb/fernsehen/programm/23_04_2014/11983267815.html
DTEND:20140423T160000
DTSTART:20140423T151500
UID:/content/rbb/rbb/fernsehen/programm/23_04_2014/11983267815
DTSTAMP:20140404T194958
DESCRIPTION:
SUMMARY:Ins heiße Herz Afrikas - Entdeckungsreise auf dem Niger 23.04.2014 15:15
END:VEVENT
END:VCALENDAR
