BEGIN:VCALENDAR
X-WR-TIMEZONE:Europe/Berlin
X-WR-CALNAME:rbb-Kalender
VERSION:2.0
METHOD:PUBLISH
CALSCALE:GREGORIAN
PRODID:rbb-CMS DAY
BEGIN:VEVENT
LOCATION:Friedrichshain-Kreuzberg
CLASS:PUBLIC
URL:http://www.rbb-online.de/content/rbb/rbb/fernsehen/programm/23_04_2014/11983267842.html
DTEND:20140423T165000
DTSTART:20140423T160500
UID:/content/rbb/rbb/fernsehen/programm/23_04_2014/11983267842
DTSTAMP:20140404T194955
DESCRIPTION:Der Berlin-Brandenburg Check testet  auf unterhaltsame Weise die Lebensqualität in Berliner Bezirken und Brandenburger Landkreisen. Das rbb-Team ist im Berliner Stadtbezirk Friedrichshain-Kreuzberg unterwegs. Der gilt als Szenebezirk, in dem vor allem junge Leute und Partygänger leben, wird aber manchmal als etwas heruntergekommen wahrgenommen. Wie wohnt es sich hier?
SUMMARY:Der Berlin-Brandenburg Check 23.04.2014 16:05
END:VEVENT
END:VCALENDAR
