BEGIN:VCALENDAR
X-WR-TIMEZONE:Europe/Berlin
X-WR-CALNAME:rbb-Kalender
VERSION:2.0
METHOD:PUBLISH
CALSCALE:GREGORIAN
PRODID:rbb-CMS DAY
BEGIN:VEVENT
LOCATION:Abenteuer Afrika
CLASS:PUBLIC
URL:http://www.rbb-online.de/content/rbb/rbb/fernsehen/programm/23_04_2014/11983267904.html
DTEND:20140423T175500
DTSTART:20140423T170500
UID:/content/rbb/rbb/fernsehen/programm/23_04_2014/11983267904
DTSTAMP:20140404T195027
DESCRIPTION:Völkerwanderung auf der Harnas-Wiese. Zwei Dutzend Volontäre und ein geheimnisvoller Käfig sind auf dem Weg zum Farmparkplatz. Darin stecken Manguste Dimitri und sein Rudel. Harnaschefin Marieta gibt die kleinen Zebramangusten in gute Hände:
SUMMARY:Das Waisenhaus für wilde Tiere 23.04.2014 17:05
END:VEVENT
END:VCALENDAR
