BEGIN:VCALENDAR
X-WR-TIMEZONE:Europe/Berlin
X-WR-CALNAME:rbb-Kalender
VERSION:2.0
METHOD:PUBLISH
CALSCALE:GREGORIAN
PRODID:rbb-CMS DAY
BEGIN:VEVENT
LOCATION:Tödliche Injektionen
CLASS:PUBLIC
URL:http://www.rbb-online.de/content/rbb/rbb/fernsehen/programm/24_04_2014/11991112118.html
DTEND:20140424T011000
DTSTART:20140424T002500
UID:/content/rbb/rbb/fernsehen/programm/24_04_2014/11991112118
DTSTAMP:20140404T195020
DESCRIPTION:Als zwei Menschen sterben, die von derselben Pflegerin zuhause betreut wurden, beginnt Jessica zu ermitteln.
SUMMARY:Mord ist ihr Hobby 24.04.2014 00:25
END:VEVENT
END:VCALENDAR
