BEGIN:VCALENDAR
X-WR-TIMEZONE:Europe/Berlin
X-WR-CALNAME:rbb-Kalender
VERSION:2.0
METHOD:PUBLISH
CALSCALE:GREGORIAN
PRODID:rbb-CMS DAY
BEGIN:VEVENT
LOCATION:Film von Meike Hemschemeier
CLASS:PUBLIC
URL:http://www.rbb-online.de/content/rbb/rbb/fernsehen/programm/24_04_2014/11991112161.html
DTEND:20140424T024000
DTSTART:20140424T015500
UID:/content/rbb/rbb/fernsehen/programm/24_04_2014/11991112161
DTSTAMP:20140404T194717
DESCRIPTION:In keinem Land der Welt werden so viele künstliche Knie- und Hüftgelenke eingesetzt und so viele Herzkranzgefäße aufgedehnt wie in Deutschland. Rückenoperationen werden hierzulande dreimal so häufig durchgeführt wie in England und doppelt so häufig wie in Frankreich. Dabei sind viele Eingriffe nicht nur teuer, sondern auch unnötig - und manche sogar schädlich.
SUMMARY:Vorsicht Operation! 24.04.2014 01:55
END:VEVENT
END:VCALENDAR
