BEGIN:VCALENDAR
X-WR-TIMEZONE:Europe/Berlin
X-WR-CALNAME:rbb-Kalender
VERSION:2.0
METHOD:PUBLISH
CALSCALE:GREGORIAN
PRODID:rbb-CMS DAY
BEGIN:VEVENT
LOCATION:wirtschaft arbeit sparen
CLASS:PUBLIC
URL:http://www.rbb-online.de/content/rbb/rbb/fernsehen/programm/24_04_2014/11991112172.html
DTEND:20140424T031000
DTSTART:20140424T024000
UID:/content/rbb/rbb/fernsehen/programm/24_04_2014/11991112172
DTSTAMP:20140404T194743
DESCRIPTION:Die thematische Bandbreite der Sendung: Wirtschaft, Arbeit, Sparen. Dabei bedeutet "sparen" nicht "knausern", sondern beschreibt den bewussten Umgang mit dem Verdienten und Ersparten. Dabei wollen wir helfen - mit Tests, Details und Preisen.
SUMMARY:was! 24.04.2014 02:40
END:VEVENT
END:VCALENDAR
