BEGIN:VCALENDAR
X-WR-TIMEZONE:Europe/Berlin
X-WR-CALNAME:rbb-Kalender
VERSION:2.0
METHOD:PUBLISH
CALSCALE:GREGORIAN
PRODID:rbb-CMS DAY
BEGIN:VEVENT
LOCATION:Film von Ulrike Licht
CLASS:PUBLIC
URL:http://www.rbb-online.de/content/rbb/rbb/fernsehen/programm/24_04_2014/11991112315.html
DTEND:20140424T070000
DTSTART:20140424T063000
UID:/content/rbb/rbb/fernsehen/programm/24_04_2014/11991112315
DTSTAMP:20140404T200344
DESCRIPTION:Zu Ostern, wenn alles anfängt zu blühen und überall frische Blumen und Osterschmuck präsentiert werden, dann ist sie besonders groß: die Sehnsucht nach dem einfachen Landleben. Auch die rbb Reporter haben Lust aufs Land und machen sich auf die Suche. Auf einem Hof in der Uckermark werden sie fündig. Ist dieses Leben wirklich so romantisch, wie in vielen Lifestyle-Zeitschriften dargestellt?
SUMMARY:Die rbb Reporter: Von schlauen Hühnern und echten Landeiern 24.04.2014 06:30
END:VEVENT
END:VCALENDAR
