BEGIN:VCALENDAR
X-WR-TIMEZONE:Europe/Berlin
X-WR-CALNAME:rbb-Kalender
VERSION:2.0
METHOD:PUBLISH
CALSCALE:GREGORIAN
PRODID:rbb-CMS DAY
BEGIN:VEVENT
LOCATION:Leben & genießen
CLASS:PUBLIC
URL:http://www.rbb-online.de/content/rbb/rbb/fernsehen/programm/24_04_2014/11991112415.html
DTEND:20140424T103500
DTSTART:20140424T095500
UID:/content/rbb/rbb/fernsehen/programm/24_04_2014/11991112415
DTSTAMP:20140404T200610
DESCRIPTION:Das ganze Service-Angebot für Leib und Seele rund ums tägliche Leben.
SUMMARY:ARD-Buffet 24.04.2014 09:55
END:VEVENT
END:VCALENDAR
