BEGIN:VCALENDAR
X-WR-TIMEZONE:Europe/Berlin
X-WR-CALNAME:rbb-Kalender
VERSION:2.0
METHOD:PUBLISH
CALSCALE:GREGORIAN
PRODID:rbb-CMS DAY
BEGIN:VEVENT
LOCATION:Wie man sich bettet...
CLASS:PUBLIC
URL:http://www.rbb-online.de/content/rbb/rbb/fernsehen/programm/24_04_2014/11991112466.html
DTEND:20140424T130000
DTSTART:20140424T121500
UID:/content/rbb/rbb/fernsehen/programm/24_04_2014/11991112466
DTSTAMP:20140404T200411
DESCRIPTION:Elena Eichhorn hat Philipp Brentano nach Arzus Rausschmiss bei sich aufgenommen. Als sie ihren Freund Valentin auf das Thema Zusammenziehen anspricht, benutzt er Philipps Notlage als Vorwand, das Ganze zu vertagen. Elena spürt allerdings, dass Valentins Zurückhaltung mit seiner Tochter Jenny zusammenhängt. Wenig später in der Klinik kippt Dr. Eichhorn vor einer Operation um.
SUMMARY:In aller Freundschaft 24.04.2014 12:15
END:VEVENT
END:VCALENDAR
