BEGIN:VCALENDAR
X-WR-TIMEZONE:Europe/Berlin
X-WR-CALNAME:rbb-Kalender
VERSION:2.0
METHOD:PUBLISH
CALSCALE:GREGORIAN
PRODID:rbb-CMS DAY
BEGIN:VEVENT
LOCATION:Dreharbeiten in Rom
CLASS:PUBLIC
URL:http://www.rbb-online.de/content/rbb/rbb/fernsehen/programm/24_04_2014/11991112526.html
DTEND:20140424T141500
DTSTART:20140424T133000
UID:/content/rbb/rbb/fernsehen/programm/24_04_2014/11991112526
DTSTAMP:20140404T200342
DESCRIPTION:Als ein Stuntman bei den Dreharbeiten zur Filmadaption eines ihrer Romane stirbt, obwohl der inszenierte Autounfall als ein Routine-Stunt gilt, geht Jessica von Mord aus.
SUMMARY:Mord ist ihr Hobby 24.04.2014 13:30
END:VEVENT
END:VCALENDAR
