BEGIN:VCALENDAR
X-WR-TIMEZONE:Europe/Berlin
X-WR-CALNAME:rbb-Kalender
VERSION:2.0
METHOD:PUBLISH
CALSCALE:GREGORIAN
PRODID:rbb-CMS DAY
BEGIN:VEVENT
LOCATION:Herr Geurten baut eine Mittelalterstadt - in echt!
CLASS:PUBLIC
URL:http://www.rbb-online.de/content/rbb/rbb/fernsehen/programm/24_04_2014/11991112548.html
DTEND:20140424T151500
DTSTART:20140424T141500
UID:/content/rbb/rbb/fernsehen/programm/24_04_2014/11991112548
DTSTAMP:20140404T200323
DESCRIPTION:Lange galt das Mittelalter als finster und rückständig. Heute weiß man: die Menschen waren damals sehr erfindungsreich und fortschrittlich. Im badischen Meßkirch haben im letzten Jahr die Bauarbeiten für die karolingische Klosterstadt Campus Galli begonnen. Der Studiogast Bert M. Geurten ist der Erfinder und Leiter des Bauprojekts. Er wird mit seinen Mitarbeitern eine Klosterstadt nach einem Bauplan bauen, der seit 1.200 Jahren in Museumsarchiven schlummert. Ein Abenteuer, denn die Klosterstadt wird nur mit den Mitteln gebaut, die im neunten Jahrhundert zur Verfügung standen.
SUMMARY:Planet Wissen 24.04.2014 14:15
END:VEVENT
END:VCALENDAR
