BEGIN:VCALENDAR
X-WR-TIMEZONE:Europe/Berlin
X-WR-CALNAME:rbb-Kalender
VERSION:2.0
METHOD:PUBLISH
CALSCALE:GREGORIAN
PRODID:rbb-CMS DAY
BEGIN:VEVENT
LOCATION:Film von Susanne Mayer-Hagmann
CLASS:PUBLIC
URL:http://www.rbb-online.de/content/rbb/rbb/fernsehen/programm/24_04_2014/11991112564.html
DTEND:20140424T160000
DTSTART:20140424T151500
UID:/content/rbb/rbb/fernsehen/programm/24_04_2014/11991112564
DTSTAMP:20140404T200645
DESCRIPTION:Meer und Berge liegen nah beieinander im Baskenland. Die Landschaft ist unverfälscht und ermöglicht Urlaub fernab des Massentourismus. Die Reise führt hauptsächlich durch die Provinz Guipuzcoa und beginnt in deren Hauptstadt San Sebastian. Die Fahrten mit der Regionalbahn führen nach Zumaia und in der Nachbarprovinz Biskaya von Gernika nach Bermeo.
SUMMARY:Mit dem Zug durch das Baskenland 24.04.2014 15:15
END:VEVENT
END:VCALENDAR
