BEGIN:VCALENDAR
X-WR-TIMEZONE:Europe/Berlin
X-WR-CALNAME:rbb-Kalender
VERSION:2.0
METHOD:PUBLISH
CALSCALE:GREGORIAN
PRODID:rbb-CMS DAY
BEGIN:VEVENT
LOCATION:Fernsehfilm Deutschland 2013
CLASS:PUBLIC
URL:http://www.rbb-online.de/content/rbb/rbb/fernsehen/programm/24_04_2014/11991112844.html
DTEND:20140424T214500
DTSTART:20140424T201500
UID:/content/rbb/rbb/fernsehen/programm/24_04_2014/11991112844
DTSTAMP:20140404T200531
DESCRIPTION:Die junge Agrarwissenschaftlerin Dr. Ellen Bischoff hat sich der ökologischen Landwirtschaft verschrieben. Doch ihre modernen Auffassungen zu Vieh- und Pflanzenzucht stehen in direktem Widerspruch zur Meinung ihres Vaters, der seinen bayersichen Milchhof noch ganz traditionell führt. Konflikte sind vorprogrammiert.
SUMMARY:Der Geruch von Erde 24.04.2014 20:15
END:VEVENT
END:VCALENDAR
