BEGIN:VCALENDAR
X-WR-TIMEZONE:Europe/Berlin
X-WR-CALNAME:rbb-Kalender
VERSION:2.0
METHOD:PUBLISH
CALSCALE:GREGORIAN
PRODID:rbb-CMS DAY
BEGIN:VEVENT
LOCATION:Das Kulturmagazin
CLASS:PUBLIC
URL:http://www.rbb-online.de/content/rbb/rbb/fernsehen/programm/24_04_2014/11991112876.html
DTEND:20140424T224500
DTSTART:20140424T221500
UID:/content/rbb/rbb/fernsehen/programm/24_04_2014/11991112876
DTSTAMP:20140404T200517
DESCRIPTION:Petra Gute
SUMMARY:Stilbruch 24.04.2014 22:15
END:VEVENT
END:VCALENDAR
