BEGIN:VCALENDAR
X-WR-TIMEZONE:Europe/Berlin
X-WR-CALNAME:rbb-Kalender
VERSION:2.0
METHOD:PUBLISH
CALSCALE:GREGORIAN
PRODID:rbb-CMS DAY
BEGIN:VEVENT
LOCATION:Mit Live-Berichten vor Ort, Reportagen, Hintergründen und dem Abendschau-Sport
CLASS:PUBLIC
URL:http://www.rbb-online.de/content/rbb/rbb/fernsehen/programm/25_04_2014/11972886689.html
DTEND:20140425T200000
DTSTART:20140425T193000
UID:/content/rbb/rbb/fernsehen/programm/25_04_2014/11972886689
DTSTAMP:20140407T113648
DESCRIPTION:Aktuelle Berichte aus Bayern, Hintergründe zu brisanten Themen, Geschichten, die unter die Haut gehen - das ist die Abendschau.
SUMMARY:Abendschau 25.04.2014 19:30
END:VEVENT
END:VCALENDAR
