BEGIN:VCALENDAR
X-WR-TIMEZONE:Europe/Berlin
X-WR-CALNAME:rbb-Kalender
VERSION:2.0
METHOD:PUBLISH
CALSCALE:GREGORIAN
PRODID:rbb-CMS DAY
BEGIN:VEVENT
LOCATION:Dreharbeiten in Rom
CLASS:PUBLIC
URL:http://www.rbb-online.de/content/rbb/rbb/fernsehen/programm/25_04_2014/11997364895.html
DTEND:20140425T005000
DTSTART:20140425T000500
UID:/content/rbb/rbb/fernsehen/programm/25_04_2014/11997364895
DTSTAMP:20140404T200632
DESCRIPTION:Als ein Stuntman bei den Dreharbeiten zur Filmadaption eines ihrer Romane stirbt, obwohl der inszenierte Autounfall als ein Routine-Stunt gilt, geht Jessica von Mord aus.
SUMMARY:Mord ist ihr Hobby 25.04.2014 00:05
END:VEVENT
END:VCALENDAR
