BEGIN:VCALENDAR
X-WR-TIMEZONE:Europe/Berlin
X-WR-CALNAME:rbb-Kalender
VERSION:2.0
METHOD:PUBLISH
CALSCALE:GREGORIAN
PRODID:rbb-CMS DAY
BEGIN:VEVENT
LOCATION:zuhause in berlin & brandenburg
CLASS:PUBLIC
URL:http://www.rbb-online.de/content/rbb/rbb/fernsehen/programm/25_04_2014/11997365018.html
DTEND:20140425T042500
DTSTART:20140425T033000
UID:/content/rbb/rbb/fernsehen/programm/25_04_2014/11997365018
DTSTAMP:20140404T200527
DESCRIPTION:zibb bringt Berlin und Brandenburg zusammen - und drei Moderatorenpaare, die sowohl den Brandenburgern als auch den Berlinern bestens bekannt sind, führen Sie durch das Journal des RBB.
SUMMARY:zibb 25.04.2014 03:30
END:VEVENT
END:VCALENDAR
