BEGIN:VCALENDAR
X-WR-TIMEZONE:Europe/Berlin
X-WR-CALNAME:rbb-Kalender
VERSION:2.0
METHOD:PUBLISH
CALSCALE:GREGORIAN
PRODID:rbb-CMS DAY
BEGIN:VEVENT
LOCATION:Semmering - Eisenbahn und Zauberberg
CLASS:PUBLIC
URL:http://www.rbb-online.de/content/rbb/rbb/fernsehen/programm/25_04_2014/11997365097.html
DTEND:20140425T061500
DTSTART:20140425T060000
UID:/content/rbb/rbb/fernsehen/programm/25_04_2014/11997365097
DTSTAMP:20140407T113425
DESCRIPTION:Über Gräben hinweg, durch Berge hindurch und an Felswänden entlang wurde die Bahnstrecke gebaut. Karl Ritter von Ghega, der Planungschef der österreichischen Staatsbahn, war voller Stolz, als die Semmeringbahn im April 1854 feierlich von Kaiser Franz Josef eröffnet wurde. Aber bei der Einfahrt in die Gloggnitzer Bahnhofshalle war der Schornstein der Lokomotive zu hoch, krachte herunter und hüllte die feine österreichische Gesellschaft in Rauch und Ruß. Der Kaiser behielt jedoch die Nerven, und die erste Hochgebirgsbahn der Welt konnte ihren Betrieb aufnehmen. 1998 wurde die Semmeringbahn von der UNESCO zum Weltkulturerbe ernannt.
SUMMARY:Schätze der Welt 25.04.2014 06:00
END:VEVENT
END:VCALENDAR
