BEGIN:VCALENDAR
X-WR-TIMEZONE:Europe/Berlin
X-WR-CALNAME:rbb-Kalender
VERSION:2.0
METHOD:PUBLISH
CALSCALE:GREGORIAN
PRODID:rbb-CMS DAY
BEGIN:VEVENT
LOCATION:Das alte Indien
CLASS:PUBLIC
URL:http://www.rbb-online.de/content/rbb/rbb/fernsehen/programm/25_04_2014/11997365133.html
DTEND:20140425T080000
DTSTART:20140425T073000
UID:/content/rbb/rbb/fernsehen/programm/25_04_2014/11997365133
DTSTAMP:20140407T113446
DESCRIPTION:Der Traum von ewiger Schönheit, das Bedürfnis nach einem guten Leben und der Wunsch, den Tod zu besiegen, sind seit jeher Bestandteile des menschlichen Lebens. Bereits die großen Hochkulturen der Antike entwickelten ausgefeilte Gedankengebäude und versuchten diese natürlichen Sehnsüchte der Menschen zu befriedigen. Erfahrungswerte von Jahrtausenden flossen in die traditionellen Heilsysteme Chinas, Indiens und Roms. Diese Kulturen generierten einen enormen Wissensschatz. Dessen Bedeutung wird durch die moderne Wissenschaft nach und nach wiederentdeckt. Die Dokumentation beschäftigt sich mit den Anfängen des Ayurveda im alten Indien.
SUMMARY:Entdecker der Wellness 25.04.2014 07:30
END:VEVENT
END:VCALENDAR
