BEGIN:VCALENDAR
X-WR-TIMEZONE:Europe/Berlin
X-WR-CALNAME:rbb-Kalender
VERSION:2.0
METHOD:PUBLISH
CALSCALE:GREGORIAN
PRODID:rbb-CMS DAY
BEGIN:VEVENT
LOCATION:Fernsehserie Deutschland 2014
CLASS:PUBLIC
URL:http://www.rbb-online.de/content/rbb/rbb/fernsehen/programm/25_04_2014/11997365229.html
DTEND:20140425T121500
DTSTART:20140425T112500
UID:/content/rbb/rbb/fernsehen/programm/25_04_2014/11997365229
DTSTAMP:20140407T113451
DESCRIPTION:Während Coco überlegt, wie sie sich vor dem Geburtstagsständchen mit Goran drücken kann, bietet Michael ihr an, mit ihr zu üben. Pauline unterbricht den Kuss mit Leonard und gesteht ihm, dass sie wieder mit Daniel zusammen ist. Tina will Chris Brenners Tagebuch nicht zu Geld machen, sondern es Daniel geben. Der aber bittet Tina, es zu vernichten, um nicht neue Wunden bei ihm und Pauline aufzureißen.
SUMMARY:Sturm der Liebe (1970) 25.04.2014 11:25
END:VEVENT
END:VCALENDAR
