BEGIN:VCALENDAR
X-WR-TIMEZONE:Europe/Berlin
X-WR-CALNAME:rbb-Kalender
VERSION:2.0
METHOD:PUBLISH
CALSCALE:GREGORIAN
PRODID:rbb-CMS DAY
BEGIN:VEVENT
LOCATION:Liebe fragt nicht
CLASS:PUBLIC
URL:http://www.rbb-online.de/content/rbb/rbb/fernsehen/programm/25_04_2014/11997365249.html
DTEND:20140425T130000
DTSTART:20140425T121500
UID:/content/rbb/rbb/fernsehen/programm/25_04_2014/11997365249
DTSTAMP:20140407T113409
DESCRIPTION:Schwester Yvonne bekommt Besuch von ihrem Bruder Paul. Die beiden haben sich sehr lange nicht gesehen und aufgrund gefühlsmäßiger Enttäuschungen herrscht eine große Distanz zwischen ihnen. Trotzdem reagiert Yvonne erschrocken, als Paul beim Frühstück erklärt, dass er krank ist. Er leidet an einem Lungenemphysem, das bisher als unheilbar galt. Doch eine an der Sachsenklinik durchgeführte Medikamentenstudie macht Hoffnung. Yvonne ist zunächst enttäuscht, als sie begreift, dass das neue Medikament der eigentliche Grund für Pauls Besuch in Leipzig ist. Doch noch mehr ist sie besorgt um ihn.
SUMMARY:In aller Freundschaft (379) 25.04.2014 12:15
END:VEVENT
END:VCALENDAR
