BEGIN:VCALENDAR
X-WR-TIMEZONE:Europe/Berlin
X-WR-CALNAME:rbb-Kalender
VERSION:2.0
METHOD:PUBLISH
CALSCALE:GREGORIAN
PRODID:rbb-CMS DAY
BEGIN:VEVENT
LOCATION:Kunstdiebstahl in New York
CLASS:PUBLIC
URL:http://www.rbb-online.de/content/rbb/rbb/fernsehen/programm/25_04_2014/11997365306.html
DTEND:20140425T141500
DTSTART:20140425T133000
UID:/content/rbb/rbb/fernsehen/programm/25_04_2014/11997365306
DTSTAMP:20140407T113435
DESCRIPTION:Als ein gestohlener Degas unter dem Auktionshammer landet, wird ein zeitgenössischer Maler widerwillig zum Stillleben.
SUMMARY:Mord ist ihr Hobby 25.04.2014 13:30
END:VEVENT
END:VCALENDAR
