BEGIN:VCALENDAR
X-WR-TIMEZONE:Europe/Berlin
X-WR-CALNAME:rbb-Kalender
VERSION:2.0
METHOD:PUBLISH
CALSCALE:GREGORIAN
PRODID:rbb-CMS DAY
BEGIN:VEVENT
LOCATION:Wien, San Francisco, Potsdam
CLASS:PUBLIC
URL:http://www.rbb-online.de/content/rbb/rbb/fernsehen/programm/25_04_2014/11997365344.html
DTEND:20140425T160000
DTSTART:20140425T151500
UID:/content/rbb/rbb/fernsehen/programm/25_04_2014/11997365344
DTSTAMP:20140407T113506
DESCRIPTION:Wien, Österreichs Hauptstadt mit Charme, ist berühmt für seine Gemütlichkeit. Mit einem Fiaker lassen sich die historischen Sehenswürdigkeiten und modernen Attraktionen der Donaustadt entdecken. Multikulti-quirlig dagegen präsentiert sich San Francisco, ein Laboratorium des amerikanischen Traums. Die Stadt an der Golden Gate Bridge vereint ganz unterschiedliche Volksgruppen und Lebensstile. Weniger spektakulär, aber nicht minder spannend zeigt sich Potsdam. Berlins kleine Schwester ist ein Juwel mit verblüffenden Facetten.
SUMMARY:Lust auf tolle Städte 25.04.2014 15:15
END:VEVENT
END:VCALENDAR
