BEGIN:VCALENDAR
X-WR-TIMEZONE:Europe/Berlin
X-WR-CALNAME:rbb-Kalender
VERSION:2.0
METHOD:PUBLISH
CALSCALE:GREGORIAN
PRODID:rbb-CMS DAY
BEGIN:VEVENT
LOCATION:Abenteuer Afrika
CLASS:PUBLIC
URL:http://www.rbb-online.de/content/rbb/rbb/fernsehen/programm/25_04_2014/11997365426.html
DTEND:20140425T175500
DTSTART:20140425T170500
UID:/content/rbb/rbb/fernsehen/programm/25_04_2014/11997365426
DTSTAMP:20140407T113623
DESCRIPTION:Für die Tiere auf Harnas wird alles Menschenmögliche getan - nicht nur, wenn sie krank sind. Hier werden auch Senioren betreut, so wie drei betagte Geparde. Sie gehen täglich spazieren. Die drei sind jeweils 14 Jahre alt - ein biblisches Alter für Geparde. Sie sind übrigens Geschwister und wurden gemeinsam von Hand aufgezogen. Das heißt aber nicht, dass sie machen, was man von ihnen will, besonders bei der heutigen Fütterung.
SUMMARY:Das Waisenhaus für wilde Tiere (70) 25.04.2014 17:05
END:VEVENT
END:VCALENDAR
