BEGIN:VCALENDAR
X-WR-TIMEZONE:Europe/Berlin
X-WR-CALNAME:rbb-Kalender
VERSION:2.0
METHOD:PUBLISH
CALSCALE:GREGORIAN
PRODID:rbb-CMS DAY
BEGIN:VEVENT
LOCATION:Unterwegs mit Sascha Hingst
CLASS:PUBLIC
URL:http://www.rbb-online.de/content/rbb/rbb/fernsehen/programm/25_04_2014/11997365836.html
DTEND:20140425T214500
DTSTART:20140425T201500
UID:/content/rbb/rbb/fernsehen/programm/25_04_2014/11997365836
DTSTAMP:20140407T113534
DESCRIPTION:Der Harz ist eine einzigartige Naturlandschaft und ein Ferienparadies zugleich. Mit seinen geheimnisvollen Wäldern, reißenden Flüssen, tiefen Tälern und Schluchten gehört Deutschlands nördlichstes Gebirge zu den beliebtesten Urlaubsregionen der Deutschen. rbb-Moderator Sascha Hingst macht sich auf zu einer ganz besonderen Harz-Reise. Mit dem Mountainbike geht es hinauf auf den Brocken, mit der längsten Seilrutsche Europas über die Rappbodetalsperre und im kleinen Dorf Wieda versucht er sich mit der Kettensäge als Holzschnitzer. Unterwegs trifft er Menschen, die sich im Harz ihren Traum erfüllt haben.
SUMMARY:Abenteuer Harz 25.04.2014 20:15
END:VEVENT
END:VCALENDAR
