BEGIN:VCALENDAR
X-WR-TIMEZONE:Europe/Berlin
X-WR-CALNAME:rbb-Kalender
VERSION:2.0
METHOD:PUBLISH
CALSCALE:GREGORIAN
PRODID:rbb-CMS DAY
BEGIN:VEVENT
LOCATION:Die MDR-Talkshow live aus Leipzig
CLASS:PUBLIC
URL:http://www.rbb-online.de/content/rbb/rbb/fernsehen/programm/25_04_2014/11997365925.html
DTEND:20140426T000000
DTSTART:20140425T220000
UID:/content/rbb/rbb/fernsehen/programm/25_04_2014/11997365925
DTSTAMP:20140407T113438
DESCRIPTION:Gäste:\n* Stephanie Stumph, Schauspielerin\n* Frank Schöbel, Schlagerlegende\n* Marco Schreyl, Moderator\n* Claudia Wenzel, Schauspielerin\n* Giulia Enders, Medizinstudentin, Bestsellerautorin\n* Gesine Cukrowski, Schauspielerin
SUMMARY:Riverboat 25.04.2014 22:00
END:VEVENT
END:VCALENDAR
