BEGIN:VCALENDAR
X-WR-TIMEZONE:Europe/Berlin
X-WR-CALNAME:rbb-Kalender
VERSION:2.0
METHOD:PUBLISH
CALSCALE:GREGORIAN
PRODID:rbb-CMS DAY
BEGIN:VEVENT
LOCATION:Very British - Gärtnerglück und Gartenlust
CLASS:PUBLIC
URL:http://www.rbb-online.de/content/rbb/rbb/fernsehen/programm/26_04_2014/12003417406.html
DTEND:20140426T052000
DTSTART:20140426T045000
UID:/content/rbb/rbb/fernsehen/programm/26_04_2014/12003417406
DTSTAMP:20140407T113542
DESCRIPTION:Horst Mager hat Orte gefunden, die einem Gartenparadies sehr nahe kommen. Kenntnisreich stellt er bekannte und gänzlich unbekannte Gärten in England und Wales vor. Die erste Folge führt u. a. zu den Gärtnern von Sissinghurst, zu dem jüngsten Star der englischen Gartenszene Sarah Price und zu der imposanten Gartenanlage Great Dixter.
SUMMARY:rbb Gartenzeit spezial 26.04.2014 04:50
END:VEVENT
END:VCALENDAR
