BEGIN:VCALENDAR
X-WR-TIMEZONE:Europe/Berlin
X-WR-CALNAME:rbb-Kalender
VERSION:2.0
METHOD:PUBLISH
CALSCALE:GREGORIAN
PRODID:rbb-CMS DAY
BEGIN:VEVENT
CLASS:PUBLIC
URL:http://www.rbb-online.de/content/rbb/rbb/fernsehen/programm/26_04_2014/12003417455.html
DTEND:20140426T060000
DTSTART:20140426T052000
UID:/content/rbb/rbb/fernsehen/programm/26_04_2014/12003417455
DTSTAMP:20140407T113439
DESCRIPTION:Stimmungsvolle Bilder von Fahrten durch das erwachende Potsdam, untermalt vom Soundtrack der Großstadtnacht.
SUMMARY:Potsdam erwacht 26.04.2014 05:20
END:VEVENT
END:VCALENDAR
