BEGIN:VCALENDAR
X-WR-TIMEZONE:Europe/Berlin
X-WR-CALNAME:rbb-Kalender
VERSION:2.0
METHOD:PUBLISH
CALSCALE:GREGORIAN
PRODID:rbb-CMS DAY
BEGIN:VEVENT
LOCATION:Spielfilm Norwegen 2004
CLASS:PUBLIC
URL:http://www.rbb-online.de/content/rbb/rbb/fernsehen/programm/26_04_2014/12003417501.html
DTEND:20140426T073000
DTSTART:20140426T060000
UID:/content/rbb/rbb/fernsehen/programm/26_04_2014/12003417501
DTSTAMP:20140408T000100
DESCRIPTION:Die zwölfjährige Selma ist der festen Überzeugung, dass Jungen wie später eben auch Männer nichts als Probleme bereiten. Die Beweise dafür hält ihre Verwandtschaft parat. Schon seit Jahren wollen ihre Tante und ihr Verlobter heiraten. Aber kaum steht ein Termin fest, geraten sie in einen so heftigen Streit, dass der Priester nach Hause geschickt und die Feier abgesagt werden muss. Und ist nicht Selmas Mutter aus Liebe gestorben? Darum will Selma von Liebe nichts wissen. Sie widmet ihr Leben lieber der Wissenschaft!
SUMMARY:Die Farbe der Milch 26.04.2014 06:00
END:VEVENT
END:VCALENDAR
