BEGIN:VCALENDAR
X-WR-TIMEZONE:Europe/Berlin
X-WR-CALNAME:rbb-Kalender
VERSION:2.0
METHOD:PUBLISH
CALSCALE:GREGORIAN
PRODID:rbb-CMS DAY
BEGIN:VEVENT
CLASS:PUBLIC
URL:http://www.rbb-online.de/content/rbb/rbb/fernsehen/programm/26_04_2014/12003417828.html
DTEND:20140426T080000
DTSTART:20140426T075500
UID:/content/rbb/rbb/fernsehen/programm/26_04_2014/12003417828
DTSTAMP:20140407T235752
DESCRIPTION:Marc stellt die Bücher "Zu Hause redet das Gras" von Katherine Rundell und "Als mein Vater ein Busch wurde und ich meinen Namen verlor" von Loke van Leeuwen vor. Wilhelmina Silver, von allen nur Will genannt, lebt auf einer Farm in Afrika. Sie hat keine Angst vor wilden Tieren und genießt ihr freies Leben. Als ihr Vater stirbt, wird sie auf ein Internat in England geschickt. Toda und ihr Vater leben in einer kleinen Stadt. Eines Tages muss der Vater als Soldat im Krieg sein Land verteidigen und Toda bleibt bei ihrer Oma.
SUMMARY:quergelesen-Tipp 26.04.2014 07:55
END:VEVENT
END:VCALENDAR
