BEGIN:VCALENDAR
X-WR-TIMEZONE:Europe/Berlin
X-WR-CALNAME:rbb-Kalender
VERSION:2.0
METHOD:PUBLISH
CALSCALE:GREGORIAN
PRODID:rbb-CMS DAY
BEGIN:VEVENT
LOCATION:Heute aus Berlin
CLASS:PUBLIC
URL:http://www.rbb-online.de/content/rbb/rbb/fernsehen/programm/26_04_2014/12003418298.html
DTEND:20140426T110000
DTSTART:20140426T103000
UID:/content/rbb/rbb/fernsehen/programm/26_04_2014/12003418298
DTSTAMP:20140407T235831
DESCRIPTION:Die Kieze in Berlin, die wunderschönen Landschaften Brandenburgs, kuriose Geschichten und die Lust am Entdecken machen einfach gute Laune. Carla Kniestedt und Ulli Zelle sind für Sie unterwegs in Berlin und Brandenburg.\n\nModeration: Ulli Zelle
SUMMARY:HEIMATJOURNAL 26.04.2014 10:30
END:VEVENT
END:VCALENDAR
