BEGIN:VCALENDAR
X-WR-TIMEZONE:Europe/Berlin
X-WR-CALNAME:rbb-Kalender
VERSION:2.0
METHOD:PUBLISH
CALSCALE:GREGORIAN
PRODID:rbb-CMS DAY
BEGIN:VEVENT
LOCATION:Schmerzensgeld
CLASS:PUBLIC
URL:http://www.rbb-online.de/content/rbb/rbb/fernsehen/programm/26_04_2014/12003418848.html
DTEND:20140426T215000
DTSTART:20140426T210000
UID:/content/rbb/rbb/fernsehen/programm/26_04_2014/12003418848
DTSTAMP:20140407T235903
DESCRIPTION:Herr Gotthold bittet Liebling um Hilfe, weil in der Zeitung BLITZ Aktfotos seiner Freundin Tanja aufgetaucht sind. Sie verdächtigt ihn, sie dorthin verkauft zu haben und hat ihn deshalb verlassen.
SUMMARY:Liebling Kreuzberg 26.04.2014 21:00
END:VEVENT
END:VCALENDAR
