BEGIN:VCALENDAR
X-WR-TIMEZONE:Europe/Berlin
X-WR-CALNAME:rbb-Kalender
VERSION:2.0
METHOD:PUBLISH
CALSCALE:GREGORIAN
PRODID:rbb-CMS DAY
BEGIN:VEVENT
LOCATION:(SOMEWHERE)
CLASS:PUBLIC
URL:http://www.rbb-online.de/content/rbb/rbb/fernsehen/programm/26_04_2014/12003418879.html
DTEND:20140426T235000
DTSTART:20140426T222000
UID:/content/rbb/rbb/fernsehen/programm/26_04_2014/12003418879
DTSTAMP:20140408T000040
DESCRIPTION:Der Hollywoodschauspieler Johnny Marco ist zwar berühmt und begehrt, aber einsam. Er residiert dauerhaft in einem Luxushotel in Los Angeles, absolviert lustlos Publicityauftritte und schlägt die übrige Zeit mit leichten Mädchen und ziellosen Spritztouren in seinem Ferrari tot. Dann aber bringt der überraschende Besuch seiner elfjährigen Tochter Bewegung in das Leben des gelangweilten Stars.
SUMMARY:Somewhere - Verloren in Hollywood 26.04.2014 22:20
END:VEVENT
END:VCALENDAR
