BEGIN:VCALENDAR
X-WR-TIMEZONE:Europe/Berlin
X-WR-CALNAME:rbb-Kalender
VERSION:2.0
METHOD:PUBLISH
CALSCALE:GREGORIAN
PRODID:rbb-CMS DAY
BEGIN:VEVENT
LOCATION:Das Gesundheitsmagazin
CLASS:PUBLIC
URL:http://www.rbb-online.de/content/rbb/rbb/fernsehen/programm/27_04_2014/12009745578.html
DTEND:20140427T043500
DTSTART:20140427T035000
UID:/content/rbb/rbb/fernsehen/programm/27_04_2014/12009745578
DTSTAMP:20140407T235737
DESCRIPTION:Raiko Thal
SUMMARY:rbb Praxis 27.04.2014 03:50
END:VEVENT
END:VCALENDAR
